Package: pcaExplorer Version: 3.0.0 Command: /Library/Frameworks/R.framework/Resources/bin/R CMD build --keep-empty-dirs --no-resave-data pcaExplorer StartedAt: 2025-03-31 20:55:16 -0400 (Mon, 31 Mar 2025) EndedAt: 2025-03-31 21:00:11 -0400 (Mon, 31 Mar 2025) EllapsedTime: 294.9 seconds RetCode: 0 Status: OK PackageFile: pcaExplorer_3.0.0.tar.gz PackageFileSize: 10.74 MiB