Package: pcaExplorer Version: 3.0.0 Command: /Library/Frameworks/R.framework/Resources/bin/R CMD build --keep-empty-dirs --no-resave-data pcaExplorer StartedAt: 2025-04-01 04:57:17 -0400 (Tue, 01 Apr 2025) EndedAt: 2025-04-01 04:59:47 -0400 (Tue, 01 Apr 2025) EllapsedTime: 150.2 seconds RetCode: 0 Status: OK PackageFile: pcaExplorer_3.0.0.tar.gz PackageFileSize: 10.77 MiB