Package: pathwayPCA Version: 1.22.0 Command: chmod a+r pathwayPCA -R && F:\biocbuild\bbs-3.20-bioc\R\bin\R.exe CMD build --keep-empty-dirs --no-resave-data pathwayPCA StartedAt: 2025-03-31 20:54:00 -0400 (Mon, 31 Mar 2025) EndedAt: 2025-03-31 20:58:56 -0400 (Mon, 31 Mar 2025) EllapsedTime: 295.9 seconds RetCode: 0 Status: OK PackageFile: pathwayPCA_1.22.0.tar.gz PackageFileSize: 2.851 MiB