Package: pathview Version: 1.46.0 Command: /Library/Frameworks/R.framework/Resources/bin/R CMD check --install=check:pathview.install-out.txt --library=/Library/Frameworks/R.framework/Resources/library --no-vignettes --timings pathview_1.46.0.tar.gz StartedAt: 2025-04-02 03:44:47 -0400 (Wed, 02 Apr 2025) EndedAt: 2025-04-02 03:47:44 -0400 (Wed, 02 Apr 2025) EllapsedTime: 177.1 seconds RetCode: 0 Status: WARNINGS CheckDir: pathview.Rcheck Warnings: 1