Package: pathview Version: 1.46.0 Command: /Library/Frameworks/R.framework/Resources/bin/R CMD build --keep-empty-dirs --no-resave-data pathview StartedAt: 2025-04-01 04:56:38 -0400 (Tue, 01 Apr 2025) EndedAt: 2025-04-01 04:58:40 -0400 (Tue, 01 Apr 2025) EllapsedTime: 122.8 seconds RetCode: 0 Status: OK PackageFile: pathview_1.46.0.tar.gz PackageFileSize: 2.398 MiB