Package: partCNV Version: 1.4.0 Command: /home/biocbuild/R/R/bin/R CMD INSTALL partCNV StartedAt: 2025-03-31 20:54:01 -0000 (Mon, 31 Mar 2025) EndedAt: 2025-03-31 20:54:54 -0000 (Mon, 31 Mar 2025) EllapsedTime: 52.3 seconds RetCode: 0 Status: OK