Package: partCNV Version: 1.4.0 Command: /Library/Frameworks/R.framework/Resources/bin/R CMD INSTALL partCNV StartedAt: 2025-03-31 17:17:13 -0400 (Mon, 31 Mar 2025) EndedAt: 2025-03-31 17:18:01 -0400 (Mon, 31 Mar 2025) EllapsedTime: 47.9 seconds RetCode: 0 Status: OK