Package: parody Version: 1.64.0 Command: /home/biocbuild/R/R/bin/R CMD INSTALL parody StartedAt: 2025-03-31 20:16:00 -0000 (Mon, 31 Mar 2025) EndedAt: 2025-03-31 20:16:24 -0000 (Mon, 31 Mar 2025) EllapsedTime: 24.8 seconds RetCode: 0 Status: OK