Package: parody Version: 1.64.0 Command: /home/biocbuild/bbs-3.20-bioc/R/bin/R CMD INSTALL parody StartedAt: 2025-03-31 15:12:25 -0400 (Mon, 31 Mar 2025) EndedAt: 2025-03-31 15:12:36 -0400 (Mon, 31 Mar 2025) EllapsedTime: 11.5 seconds RetCode: 0 Status: OK