Package: parody Version: 1.64.0 Command: /home/biocbuild/bbs-3.20-bioc/R/bin/R CMD check --install=check:parody.install-out.txt --library=/home/biocbuild/bbs-3.20-bioc/R/site-library --timings parody_1.64.0.tar.gz StartedAt: 2025-04-01 00:50:00 -0400 (Tue, 01 Apr 2025) EndedAt: 2025-04-01 00:50:20 -0400 (Tue, 01 Apr 2025) EllapsedTime: 20.0 seconds RetCode: 0 Status: OK CheckDir: parody.Rcheck Warnings: 0