Package: parody Version: 1.64.0 Command: /Library/Frameworks/R.framework/Resources/bin/R CMD INSTALL parody StartedAt: 2025-03-31 15:09:10 -0400 (Mon, 31 Mar 2025) EndedAt: 2025-03-31 15:09:39 -0400 (Mon, 31 Mar 2025) EllapsedTime: 28.9 seconds RetCode: 0 Status: OK