Package: parody Version: 1.64.0 Command: rm -rf parody.buildbin-libdir && mkdir parody.buildbin-libdir && /Users/biocbuild/BBS/utils/build-universal.sh parody_1.64.0.tar.gz /Library/Frameworks/R.framework/Resources/bin/R parody.buildbin-libdir StartedAt: 2025-04-02 15:35:04 -0400 (Wed, 02 Apr 2025) EndedAt: 2025-04-02 15:35:07 -0400 (Wed, 02 Apr 2025) EllapsedTime: 3.5 seconds RetCode: 0 Status: OK PackageFile: parody_1.64.0.tgz PackageFileSize: 524.5 KiB