Package: parglms Version: 1.38.0 Command: /Library/Frameworks/R.framework/Resources/bin/R CMD build --keep-empty-dirs --no-resave-data parglms StartedAt: 2025-03-31 20:52:57 -0400 (Mon, 31 Mar 2025) EndedAt: 2025-03-31 20:53:56 -0400 (Mon, 31 Mar 2025) EllapsedTime: 59.1 seconds RetCode: 0 Status: OK PackageFile: parglms_1.38.0.tar.gz PackageFileSize: 273.2 KiB