Package: pareg Version: 1.10.0 Command: /home/biocbuild/R/R/bin/R CMD INSTALL pareg StartedAt: 2025-03-31 20:53:32 -0000 (Mon, 31 Mar 2025) EndedAt: 2025-03-31 20:53:57 -0000 (Mon, 31 Mar 2025) EllapsedTime: 24.6 seconds RetCode: 0 Status: OK