Package: pareg Version: 1.10.0 Command: /home/biocbuild/R/R/bin/R CMD build --keep-empty-dirs --no-resave-data pareg StartedAt: 2025-04-01 01:27:33 -0000 (Tue, 01 Apr 2025) EndedAt: 2025-04-01 01:33:34 -0000 (Tue, 01 Apr 2025) EllapsedTime: 361.1 seconds RetCode: 1 Status: ERROR PackageFile: None PackageFileSize: NA