Package: panp Version: 1.76.0 Command: /home/biocbuild/R/R/bin/R CMD INSTALL panp StartedAt: 2025-03-31 20:14:14 -0000 (Mon, 31 Mar 2025) EndedAt: 2025-03-31 20:14:40 -0000 (Mon, 31 Mar 2025) EllapsedTime: 25.8 seconds RetCode: 0 Status: OK