Package: panp Version: 1.76.0 Command: /Library/Frameworks/R.framework/Resources/bin/R CMD check --install=check:panp.install-out.txt --library=/Library/Frameworks/R.framework/Resources/library --no-vignettes --timings panp_1.76.0.tar.gz StartedAt: 2025-04-02 03:41:31 -0400 (Wed, 02 Apr 2025) EndedAt: 2025-04-02 03:42:04 -0400 (Wed, 02 Apr 2025) EllapsedTime: 33.3 seconds RetCode: 0 Status: OK CheckDir: panp.Rcheck Warnings: 0