Package: panelcn.mops Version: 1.28.0 Command: F:\biocbuild\bbs-3.20-bioc\R\bin\R.exe CMD check --no-multiarch --install=check:panelcn.mops.install-out.txt --library=F:\biocbuild\bbs-3.20-bioc\R\library --no-vignettes --timings panelcn.mops_1.28.0.tar.gz StartedAt: 2025-04-01 04:24:20 -0400 (Tue, 01 Apr 2025) EndedAt: 2025-04-01 04:26:47 -0400 (Tue, 01 Apr 2025) EllapsedTime: 147.1 seconds RetCode: 0 Status: OK CheckDir: panelcn.mops.Rcheck Warnings: 0