Package: panelcn.mops Version: 1.28.0 Command: /home/biocbuild/bbs-3.20-bioc/R/bin/R CMD check --install=check:panelcn.mops.install-out.txt --library=/home/biocbuild/bbs-3.20-bioc/R/site-library --timings panelcn.mops_1.28.0.tar.gz StartedAt: 2025-04-01 00:47:20 -0400 (Tue, 01 Apr 2025) EndedAt: 2025-04-01 00:50:27 -0400 (Tue, 01 Apr 2025) EllapsedTime: 187.3 seconds RetCode: 0 Status: OK CheckDir: panelcn.mops.Rcheck Warnings: 0