Package: pandaR Version: 1.38.0 Command: /Library/Frameworks/R.framework/Resources/bin/R CMD INSTALL pandaR StartedAt: 2025-03-31 15:11:59 -0400 (Mon, 31 Mar 2025) EndedAt: 2025-03-31 15:12:25 -0400 (Mon, 31 Mar 2025) EllapsedTime: 26.0 seconds RetCode: 0 Status: OK