Package: pairedGSEA Version: 1.6.0 Command: /home/biocbuild/R/R/bin/R CMD check --install=check:pairedGSEA.install-out.txt --library=/home/biocbuild/R/R/site-library --no-vignettes --timings pairedGSEA_1.6.0.tar.gz StartedAt: 2025-03-11 08:57:15 -0000 (Tue, 11 Mar 2025) EndedAt: 2025-03-11 09:06:28 -0000 (Tue, 11 Mar 2025) EllapsedTime: 553.5 seconds RetCode: 0 Status: OK CheckDir: pairedGSEA.Rcheck Warnings: 0