Package: pairedGSEA Version: 1.6.0 Command: rm -rf pairedGSEA.buildbin-libdir && mkdir pairedGSEA.buildbin-libdir && F:\biocbuild\bbs-3.20-bioc\R\bin\R.exe CMD INSTALL --build --library=pairedGSEA.buildbin-libdir pairedGSEA_1.6.0.tar.gz StartedAt: 2025-03-11 08:54:51 -0400 (Tue, 11 Mar 2025) EndedAt: 2025-03-11 08:55:49 -0400 (Tue, 11 Mar 2025) EllapsedTime: 57.7 seconds RetCode: 0 Status: OK PackageFile: pairedGSEA_1.6.0.zip PackageFileSize: 570.6 KiB