Package: pairedGSEA Version: 1.6.0 Command: /Library/Frameworks/R.framework/Resources/bin/R CMD INSTALL pairedGSEA StartedAt: 2025-03-31 16:20:51 -0400 (Mon, 31 Mar 2025) EndedAt: 2025-03-31 16:22:02 -0400 (Mon, 31 Mar 2025) EllapsedTime: 71.0 seconds RetCode: 0 Status: OK