Package: paircompviz Version: 1.44.0 Command: /home/biocbuild/R/R/bin/R CMD build --keep-empty-dirs --no-resave-data paircompviz StartedAt: 2025-04-01 01:25:59 -0000 (Tue, 01 Apr 2025) EndedAt: 2025-04-01 01:26:17 -0000 (Tue, 01 Apr 2025) EllapsedTime: 18.0 seconds RetCode: 0 Status: OK PackageFile: paircompviz_1.44.0.tar.gz PackageFileSize: 343.9 KiB