Package: paircompviz Version: 1.44.0 Command: /Library/Frameworks/R.framework/Resources/bin/R CMD build --keep-empty-dirs --no-resave-data paircompviz StartedAt: 2025-04-01 04:52:16 -0400 (Tue, 01 Apr 2025) EndedAt: 2025-04-01 04:52:43 -0400 (Tue, 01 Apr 2025) EllapsedTime: 27.1 seconds RetCode: 0 Status: OK PackageFile: paircompviz_1.44.0.tar.gz PackageFileSize: 354.1 KiB