Package: pageRank Version: 1.16.0 Command: /home/biocbuild/R/R/bin/R CMD INSTALL pageRank StartedAt: 2025-03-31 20:36:06 -0000 (Mon, 31 Mar 2025) EndedAt: 2025-03-31 20:36:57 -0000 (Mon, 31 Mar 2025) EllapsedTime: 51.2 seconds RetCode: 0 Status: OK