Package: pageRank Version: 1.16.0 Command: /home/biocbuild/bbs-3.20-bioc/R/bin/R CMD build --keep-empty-dirs --no-resave-data --md5 pageRank StartedAt: 2025-03-31 18:26:21 -0400 (Mon, 31 Mar 2025) EndedAt: 2025-03-31 18:28:34 -0400 (Mon, 31 Mar 2025) EllapsedTime: 132.2 seconds RetCode: 0 Status: OK PackageFile: pageRank_1.16.0.tar.gz PackageFileSize: 123.9 KiB