Package: packFinder Version: 1.18.0 Command: /home/biocbuild/R/R/bin/R CMD INSTALL packFinder StartedAt: 2025-03-31 20:50:01 -0000 (Mon, 31 Mar 2025) EndedAt: 2025-03-31 20:50:03 -0000 (Mon, 31 Mar 2025) EllapsedTime: 2.6 seconds RetCode: 0 Status: OK