Package: packFinder Version: 1.18.0 Command: F:\biocbuild\bbs-3.20-bioc\R\bin\R.exe CMD check --no-multiarch --install=check:packFinder.install-out.txt --library=F:\biocbuild\bbs-3.20-bioc\R\library --no-vignettes --timings packFinder_1.18.0.tar.gz StartedAt: 2025-04-01 04:21:46 -0400 (Tue, 01 Apr 2025) EndedAt: 2025-04-01 04:23:01 -0400 (Tue, 01 Apr 2025) EllapsedTime: 74.3 seconds RetCode: 0 Status: OK CheckDir: packFinder.Rcheck Warnings: 0