Package: pRolocGUI Version: 2.16.0 Command: /home/biocbuild/R/R/bin/R CMD build --keep-empty-dirs --no-resave-data pRolocGUI StartedAt: 2025-04-01 01:42:22 -0000 (Tue, 01 Apr 2025) EndedAt: 2025-04-01 01:43:46 -0000 (Tue, 01 Apr 2025) EllapsedTime: 84.0 seconds RetCode: 0 Status: OK PackageFile: pRolocGUI_2.16.0.tar.gz PackageFileSize: 3.054 MiB