Package: pRolocGUI Version: 2.16.0 Command: chmod a+r pRolocGUI -R && F:\biocbuild\bbs-3.20-bioc\R\bin\R.exe CMD build --keep-empty-dirs --no-resave-data pRolocGUI StartedAt: 2025-03-31 21:09:27 -0400 (Mon, 31 Mar 2025) EndedAt: 2025-03-31 21:10:58 -0400 (Mon, 31 Mar 2025) EllapsedTime: 90.2 seconds RetCode: 0 Status: OK PackageFile: pRolocGUI_2.16.0.tar.gz PackageFileSize: 2.991 MiB