Package: pRolocGUI Version: 2.16.0 Command: /Library/Frameworks/R.framework/Resources/bin/R CMD check --install=check:pRolocGUI.install-out.txt --library=/Library/Frameworks/R.framework/Resources/library --no-vignettes --timings pRolocGUI_2.16.0.tar.gz StartedAt: 2025-04-01 07:25:13 -0400 (Tue, 01 Apr 2025) EndedAt: 2025-04-01 07:37:02 -0400 (Tue, 01 Apr 2025) EllapsedTime: 709.0 seconds RetCode: 0 Status: OK CheckDir: pRolocGUI.Rcheck Warnings: 0