Package: pRolocGUI Version: 2.16.0 Command: /Library/Frameworks/R.framework/Resources/bin/R CMD build --keep-empty-dirs --no-resave-data pRolocGUI StartedAt: 2025-03-31 21:08:24 -0400 (Mon, 31 Mar 2025) EndedAt: 2025-03-31 21:10:47 -0400 (Mon, 31 Mar 2025) EllapsedTime: 142.3 seconds RetCode: 0 Status: OK PackageFile: pRolocGUI_2.16.0.tar.gz PackageFileSize: 2.991 MiB