Package: pRolocGUI Version: 2.16.0 Command: /Library/Frameworks/R.framework/Resources/bin/R CMD INSTALL pRolocGUI StartedAt: 2025-03-31 17:38:57 -0400 (Mon, 31 Mar 2025) EndedAt: 2025-03-31 17:39:52 -0400 (Mon, 31 Mar 2025) EllapsedTime: 55.4 seconds RetCode: 0 Status: OK