Package: pRolocGUI Version: 2.16.0 Command: /Library/Frameworks/R.framework/Resources/bin/R CMD build --keep-empty-dirs --no-resave-data pRolocGUI StartedAt: 2025-04-01 05:25:37 -0400 (Tue, 01 Apr 2025) EndedAt: 2025-04-01 05:26:58 -0400 (Tue, 01 Apr 2025) EllapsedTime: 82.0 seconds RetCode: 0 Status: OK PackageFile: pRolocGUI_2.16.0.tar.gz PackageFileSize: 2.991 MiB