Package: pRoloc Version: 1.46.1 Command: /Library/Frameworks/R.framework/Resources/bin/R CMD build --keep-empty-dirs --no-resave-data pRoloc StartedAt: 2025-03-31 21:08:20 -0400 (Mon, 31 Mar 2025) EndedAt: 2025-03-31 21:18:24 -0400 (Mon, 31 Mar 2025) EllapsedTime: 603.6 seconds RetCode: 0 Status: OK PackageFile: pRoloc_1.46.1.tar.gz PackageFileSize: 10.54 MiB