Package: pRoloc Version: 1.46.1 Command: rm -rf pRoloc.buildbin-libdir && mkdir pRoloc.buildbin-libdir && /Users/biocbuild/BBS/utils/build-universal.sh pRoloc_1.46.1.tar.gz /Library/Frameworks/R.framework/Resources/bin/R pRoloc.buildbin-libdir StartedAt: 2025-04-01 12:29:30 -0400 (Tue, 01 Apr 2025) EndedAt: 2025-04-01 12:32:26 -0400 (Tue, 01 Apr 2025) EllapsedTime: 176.3 seconds RetCode: 0 Status: OK PackageFile: pRoloc_1.46.1.tgz PackageFileSize: 10.29 MiB