Package: orthos Version: 1.4.1 Command: /home/biocbuild/R/R/bin/R CMD INSTALL orthos StartedAt: 2025-03-31 21:08:46 -0000 (Mon, 31 Mar 2025) EndedAt: 2025-03-31 21:09:15 -0000 (Mon, 31 Mar 2025) EllapsedTime: 29.7 seconds RetCode: 0 Status: OK