Package: orthos Version: 1.4.1 Command: /home/biocbuild/R/R/bin/R CMD build --keep-empty-dirs --no-resave-data orthos StartedAt: 2025-04-01 01:22:22 -0000 (Tue, 01 Apr 2025) EndedAt: 2025-04-01 02:02:22 -0000 (Tue, 01 Apr 2025) EllapsedTime: 2400.2 seconds RetCode: None Status: TIMEOUT PackageFile: None PackageFileSize: NA