Package: orthos Version: 1.4.1 Command: /Library/Frameworks/R.framework/Resources/bin/R CMD check --install=check:orthos.install-out.txt --library=/Library/Frameworks/R.framework/Resources/library --no-vignettes --timings orthos_1.4.1.tar.gz StartedAt: 2025-03-26 03:44:53 -0400 (Wed, 26 Mar 2025) EndedAt: 2025-03-26 03:57:04 -0400 (Wed, 26 Mar 2025) EllapsedTime: 731.0 seconds RetCode: 0 Status: OK CheckDir: orthos.Rcheck Warnings: 0