Package: orthogene Version: 1.12.0 Command: rm -rf orthogene.buildbin-libdir && mkdir orthogene.buildbin-libdir && F:\biocbuild\bbs-3.20-bioc\R\bin\R.exe CMD INSTALL --build --library=orthogene.buildbin-libdir orthogene_1.12.0.tar.gz StartedAt: 2025-04-01 08:49:04 -0400 (Tue, 01 Apr 2025) EndedAt: 2025-04-01 08:49:42 -0400 (Tue, 01 Apr 2025) EllapsedTime: 38.0 seconds RetCode: 0 Status: OK PackageFile: orthogene_1.12.0.zip PackageFileSize: 2.675 MiB