Package: optimalFlow Version: 1.18.0 Command: /home/biocbuild/R/R/bin/R CMD INSTALL optimalFlow StartedAt: 2025-03-31 20:42:33 -0000 (Mon, 31 Mar 2025) EndedAt: 2025-03-31 20:42:54 -0000 (Mon, 31 Mar 2025) EllapsedTime: 20.5 seconds RetCode: 0 Status: OK