Package: optimalFlow Version: 1.18.0 Command: /home/biocbuild/R/R/bin/R CMD build --keep-empty-dirs --no-resave-data optimalFlow StartedAt: 2025-04-01 01:20:18 -0000 (Tue, 01 Apr 2025) EndedAt: 2025-04-01 01:26:58 -0000 (Tue, 01 Apr 2025) EllapsedTime: 400.5 seconds RetCode: 0 Status: OK PackageFile: optimalFlow_1.18.0.tar.gz PackageFileSize: 1.049 MiB