Package: optimalFlow Version: 1.18.0 Command: /Library/Frameworks/R.framework/Resources/bin/R CMD INSTALL optimalFlow StartedAt: 2025-03-31 15:51:01 -0400 (Mon, 31 Mar 2025) EndedAt: 2025-03-31 15:51:43 -0400 (Mon, 31 Mar 2025) EllapsedTime: 41.9 seconds RetCode: 0 Status: OK