Package: optimalFlow Version: 1.18.0 Command: /Library/Frameworks/R.framework/Resources/bin/R CMD build --keep-empty-dirs --no-resave-data optimalFlow StartedAt: 2025-03-31 20:45:33 -0400 (Mon, 31 Mar 2025) EndedAt: 2025-03-31 21:00:44 -0400 (Mon, 31 Mar 2025) EllapsedTime: 910.9 seconds RetCode: 0 Status: OK PackageFile: optimalFlow_1.18.0.tar.gz PackageFileSize: 1.272 MiB