Package: optimalFlow Version: 1.18.0 Command: /Library/Frameworks/R.framework/Resources/bin/R CMD check --install=check:optimalFlow.install-out.txt --library=/Library/Frameworks/R.framework/Resources/library --no-vignettes --timings optimalFlow_1.18.0.tar.gz StartedAt: 2025-04-02 03:22:58 -0400 (Wed, 02 Apr 2025) EndedAt: 2025-04-02 03:26:44 -0400 (Wed, 02 Apr 2025) EllapsedTime: 226.3 seconds RetCode: 0 Status: OK CheckDir: optimalFlow.Rcheck Warnings: 0