Package: optimalFlow Version: 1.18.0 Command: /Library/Frameworks/R.framework/Resources/bin/R CMD build --keep-empty-dirs --no-resave-data optimalFlow StartedAt: 2025-04-01 04:40:40 -0400 (Tue, 01 Apr 2025) EndedAt: 2025-04-01 04:46:25 -0400 (Tue, 01 Apr 2025) EllapsedTime: 344.7 seconds RetCode: 0 Status: OK PackageFile: optimalFlow_1.18.0.tar.gz PackageFileSize: 1.271 MiB