Package: optimalFlow Version: 1.18.0 Command: rm -rf optimalFlow.buildbin-libdir && mkdir optimalFlow.buildbin-libdir && /Users/biocbuild/BBS/utils/build-universal.sh optimalFlow_1.18.0.tar.gz /Library/Frameworks/R.framework/Resources/bin/R optimalFlow.buildbin-libdir StartedAt: 2025-04-02 15:32:31 -0400 (Wed, 02 Apr 2025) EndedAt: 2025-04-02 15:32:55 -0400 (Wed, 02 Apr 2025) EllapsedTime: 23.7 seconds RetCode: 0 Status: OK PackageFile: optimalFlow_1.18.0.tgz PackageFileSize: 1.099 MiB