Package: oppar Version: 1.34.0 Command: /home/biocbuild/R/R/bin/R CMD INSTALL oppar StartedAt: 2025-03-31 21:03:01 -0000 (Mon, 31 Mar 2025) EndedAt: 2025-03-31 21:03:48 -0000 (Mon, 31 Mar 2025) EllapsedTime: 46.7 seconds RetCode: 0 Status: OK