Package: oppar Version: 1.34.0 Command: /home/biocbuild/R/R/bin/R CMD check --install=check:oppar.install-out.txt --library=/home/biocbuild/R/R/site-library --no-vignettes --timings oppar_1.34.0.tar.gz StartedAt: 2025-04-01 09:09:57 -0000 (Tue, 01 Apr 2025) EndedAt: 2025-04-01 09:16:59 -0000 (Tue, 01 Apr 2025) EllapsedTime: 422.1 seconds RetCode: 0 Status: WARNINGS CheckDir: oppar.Rcheck Warnings: 2